BEGIN:VCALENDAR
VERSION:2.0
CALSCALE:GREGORIAN
METHOD:PUBLISH
PRODID://TDAC//1428046
BEGIN:VEVENT
DTSTAMP:20260421T094210
VTIMEZONE:America/Los_Angeles
DTSTART:20260426T000000Z
DTEND:20260426T064500Z
UID:1428046
SUMMARY:1st Anniversary Celebration
LOCATION:La Golosa Postres Y Mas LLC, 623 E 2nd Street, The Dalles , OR, 97058
DESCRIPTION:1st Anniversary Celebration\n\n04/25/26 05:00 PM PST\n - 04/25/26 11:45 PM PST\Location:\nLa Golosa Postres Y Mas LLC\n623 E 2nd Street\nThe Dalles , OR 97058
X-ALT-DESC;FMTTYPE=text/html:1st Anniversary Celebration<br /><br />04/25/26 05:00 PM PST - 04/25/26 11:45 PM PST<br />Location:<br />La Golosa Postres Y Mas LLC<br />623 E 2nd Street<br />The Dalles , OR 97058
PRIORITY:3
TRANSP:TRANSPARENT
BEGIN:VALARM
TRIGGER:-PT5M
ACTION:DISPLAY
DESCRIPTION:Reminder
END:VALARM
END:VEVENT
END:VCALENDAR
